Workbook
Name 業務開始日: OFFSET([1]職名・負担経費・単価!$L$2,0,0,COUNTA([1]職名・負担経費・単価!$L:$L)-1,1)
Name 業務終了日: OFFSET([1]職名・負担経費・単価!$M$2,0,0,COUNTA([1]職名・負担経費・単価!$M:$M)-1,1)
Name 経費コード: OFFSET([1]職名・負担経費・単価!$E$2,0,0,COUNTA([1]職名・負担経費・単価!$E:$E)-1,1)
Name 職名1: OFFSET('[2]職名、担当部局、負担経費、単価'!$Q$2,0,0,COUNTA('[2]職名、担当部局、負担経費、単価'!$Q:$Q)-1,1)
Name 単価: [1]職名・負担経費・単価!$N$1:$N$15
Name 負担経費: OFFSET([1]職名・負担経費・単価!$D$2,0,0,COUNTA([1]職名・負担経費・単価!$D:$D)-1,1)

Sheet 振込口座申出書
A1: 〔記入要領〕
A3: 共通事項
A4: ・ | B4: 給与の振込口座になりますので、原則本人口座以外は指定できません。
A5: ・ | B5: 所属は、○○学院○○系研究室名、まで記入してください。（あれば内線も記入してください。）
A6: ・ | B6: TA・RA等の学生アシスタントは職員番号の記入は不要です。
A8: 銀行の場合（ゆうちょ銀行除く）
A9: ・ | B9: 銀行・信用金庫、本・支店・出張所の別を選択し○で囲んで下さい。
A10: ・ | B10: 支店名・出張所の記入にあたっては、銀行等の統廃合により、口座開設時の名称から変更になっている場合がありますので、よくご確認の上記入してください。
A12: ・ | B12: 銀行コード番号がわかる場合はご記載ください。
A13: ・ | B13: 口座番号は、右詰にて記入してください。
A14: ・ | B14: 口座名義の記入にあたっては、預金通帳等の名義（カタカナ又はローマ字）を記入してください。姓と名の間にはスペースを入れてください。外国人の方については、口座名義確認のため、通帳等の口座名義が確認できる部分の写しを添付してください。また、名義がローマ字の方についても、口座名義が確認出来る書類の写しを添付してください。
A18: ゆうちょ銀行の場合
A19: ・ | B19: 記号－番号欄は、前５ケタ－後８ケタで記入してください。後８ケタの番号欄は右づめで記入してください。
A20: ・ | B20: 口座名義の記入にあたっては、貯金通帳等の名義（カタカナ）を記入してください。姓と名の間にはスペースを入れてください。外国人の方については、口座名義確認のため、通帳等の口座名義が確認できる部分の写しを添付してください。
A23: ↑↑↑ここから上は印刷範囲外です↑↑↑
B25: 職名： Job title: | D25: TA | F25: RA | I25: その他 Other | L25: （ | R25: ） | S25: 業務開始年月： Start Date (YYYY/MM/DD):
B26: Payroll Direct Deposit Request (or Request for Change) Form
A27: 給与の口座振込申出書（ 新規 ・ 変更 ）
D29: 申出日 | F29: Request Date: | P29: 年Year | U29: 月Month | Z29: 日Date
B30: 国立大学法人 東 京 科 学 大 学 理 事 長 殿 To: National University Corporation Institute of Science Tokyo
B31: 所 属 Affiliation | C31: (内線 Ext： ） | O31: フリガナ
O32: 氏 名 Name | AM32: 2026 | AN32: 1 | AO32: 1 | AP32: 0
B33: 住 所 Address | C33: Postal Code 〒 | H33: - | Q33: Tel. | AM33: 2027 | AN33: 2 | AO33: 2 | AP33: 1
X34: （※住所は部屋番号まで記入してください。 Please include your room number.） | AM34: 2028 | AN34: 3 | AO34: 3 | AP34: 2
B35: 生年月日Date of Birth(yyyy/mm/dd) | N35: 学籍番号 Student ID | AM35: 2029 | AN35: 4 | AO35: 4 | AP35: 3
B36: 職員番号 Staff ID No. ※ | N36: 振込開始時期 Date Effective | Y36: 年 From Year | AG36: 月 Month | AM36: 2030 | AN36: 5 | AO36: 5 | AP36: 4
AM37: 2031 | AN37: 6 | AO37: 6 | AP37: 5
B38: 記 | AM38: 2032 | AN38: 7 | AO38: 7 | AP38: 6
B39: 銀行の場合（ゆうちょ銀行除く）Account Information at Banks Other Than Japan Post Bank ("Yucho Ginko") | AM39: 2033 | AN39: 8 | AO39: 8 | AP39: 7
B40: 振 込 額 Amount | G40: 全額振込 | O40: Net Pay | AM40: 2034 | AN40: 9 | AO40: 9 | AP40: 8
B41: 振 込 先 Account Information | E41: 金融機関の名称 Name of Financial Institution | V41: 銀行 Bank | AF41: 本･支店 Main Office /Branch Office | AM41: 2035 | AN41: 10 | AO41: 10 | AP41: 9
V42: 信用金庫 Shinkin Bank | AF42: 出張所 Sub-Branch Office | AM42: 2036 | AN42: 11 | AO42: 11
E43: 銀行コード(金融機関・支店) Bank Code(Bank&Branch) | O43: 銀行コード（4ケタ） Bank code(4 digits) | Z43: 支店コード（3ケタ） Branch code(3 digits) | AM43: 2037 | AN43: 12 | AO43: 12
AM44: 2038 | AO44: 13
E45: 預金の種類 Account Type | O45: 普 通 預 金 Saving Account | AM45: 2039 | AO45: 14
E46: 口座番号（7ケタ） Account No.(7 digits) | AM46: 2040 | AO46: 15
E47: 口 座 名 義 (ｶﾀｶﾅ）※2 Account Holder's Name (Katakana) | AM47: 2041 | AO47: 16
B48: ※口座名義は、通帳の表紙をめくった裏側に記載されています。多くの場合がカタカナ表記で、極まれにローマ字表記の場合もあります。 | AM48: 2042 | AO48: 17
B49: 口座名義はキャッシュカードの表記とは異なる場合があります。口座名義が正しくない場合、振込不能となりますのでご注意ください。 | AM49: 2043 | AO49: 18
B50: Note: Direct deposits may be rejected by banks if the name on the form does not match their records. This often happens when Roman letters are used instead of the registered katakana. Please be sure to write your name exactly as shown on your bank book, etc., as debit/cash cards do not necessarily show registered names. | AM50: 2044 | AO50: 19
...

Sheet 記入要領
A1: 〔記入要領〕
A3: 共通事項
A4: ・ | B4: 給与の振込口座になりますので、原則本人口座以外は指定できません。
A5: ・ | B5: 所属は、○○学院○○系研究室名、まで記入してください。（あれば内線も記入してください。）
A6: ・ | B6: TA・RA等の学生アシスタントは職員番号の記入は不要です。
A8: 銀行の場合（ゆうちょ銀行除く）
A9: ・ | B9: 銀行・信用金庫、本・支店・出張所の別を選択し○で囲んで下さい。
A10: ・ | B10: 支店名・出張所の記入にあたっては、銀行等の統廃合により、口座開設時の名称から変更になっている場合がありますので、よくご確認の上記入してください。
A12: ・ | B12: 銀行コード番号がわかる場合はご記載ください。
A13: ・ | B13: 口座番号は、右詰にて記入してください。
A14: ・ | B14: ※口座名義は、通帳の表紙をめくった裏側に記載されています。 多くの場合がカタカナ表記で、極まれにローマ字表記の場合もあります。 口座名義はキャッシュカードの表記とは異なる場合があります。口座名義が正しくない場合、振込不能となりますのでご注意ください。記入にあたっては、姓と名の間にはスペースを入れてください。外国人の方については、口座名義確認のため、通帳等の口座名義が確認できる部分の写しを添付してください。
A20: ゆうちょ銀行の場合
A21: ・ | B21: 記号－番号欄は、前５ケタ－後８ケタで記入してください。後８ケタの番号欄は右づめで記入してください。
A23: ・ | B23: 口座名義の記入にあたっては、貯金通帳等の名義（カタカナ）を記入してください。姓と名の間にはスペースを入れてください。外国人の方については、口座名義確認のため、通帳等の口座名義が確認できる部分の写しを添付してください。
B28: Instructions for filling the form
A29: w | B29: Those on the payroll are not permitted to use someone else's account to receive direct deposit.
A30: w | B30: Include your school, department and laboratory names, and extension number (if any), in the "Affiliation" field.
A31: w | B31: Students Assistants such as TAs and RAs do not need to write staff ID numbers.
B33: For those who have accounts with banks other than Japan Post Bank:
A34: w | B34: Please circle one item in each of the fields of the "Account Informtation" section: bank/"shinkin" bank, and main office/branch office/sub-branch office.
A35: w | B35: Make sure that the branch information is up-to-date since there may be changes in account details due to branch closures.
A36: w | B36: If available, please include the account's bank and branch codes.
A37: w | B37: Please leave the "Code Number" field blank (for office use only).
A38: w | B38: The account number must be right-aligned.
A39: w | B39: Please write your name in katakana or Roman letters as shown on your bankbook.
B40: (Leave a space between the first name and last name.) | C40: (Leave a space between the first name and last name.)
A41: w | B41: If you are not Japanese, attach a copy of the bankbook page(s) showing your account information for verification.
B43: For those who have accounts with Japan Post Bank:
A44: w | B44: Please write the 5-digit code number followed by the 8-digit account number in the "Code/Account No." field. The 8-digit number must be right-aligned.
A45: w | B45: Please write your name in katakana as shown on your bankbook.
B46: (Leave a space between the first name and last name.)
A47: w | B47: If you are not Japanese, attach a copy of the bankbook page(s) showing your account information for verification.

Sheet 事務使用1
A1: #職員番号 | B1: 給与区分［＊］ | C1: 開始日付 | D1: 給与銀行コードA［＊］ | E1: 給与銀行支店コードＡ［＊］ | F1: 給与口座種別A | G1: 給与口座番号A | H1: 給与口座名義人A | I1: 給与支払区分［＊］ | J1: 学籍番号 | K1: カナ名義
B2: 0 | D2: =ASC(IF(振込口座申出書!O44="",振込口座申出書!H57,振込口座申出書!O44)) -> 9900 | E2: =ASC(IF(振込口座申出書!Z44="",LEFT(RIGHT(振込口座申出書!H56,4),3),振込口座申出書!Z44)) | F2: 1 | G2: =ASC(IF(振込口座申出書!O46="",振込口座申出書!H58,振込口座申出書!O46)) | I2: 1 | J2: =ASC(振込口座申出書!T35) | K2: =ASC(IF(振込口座申出書!O47="",振込口座申出書!H59,振込口座申出書!O47))

Sheet 事務使用2
A1: #社員番号 | B1: 住所形態区分 | C1: 郵便番号 | D1: 自治省コード１ | E1: 自治省コード２ | F1: 住所１ | G1: 住所２ | H1: 履歴適用日 | I1: 学籍番号
B2: 1 | C2: =ASC(振込口座申出書!F33&"-"&振込口座申出書!I33) -> - | I2: =ASC(振込口座申出書!T35)

Sheet 債主担当者使用
A1: No | B1: 相手方番号 必須 | C1: 相手方種別 必須 | D1: 相手方適用開始日 必須 | E1: 相手方適用終了日 | F1: 登録所属コード 必須 | G1: 相手方特定区分 必須 | H1: 収入／支出 | I1: 個人コード | J1: 検索用カナ 必須 | K1: 法人名 | L1: 支店名 | M1: 氏名 必須 | N1: 略称 | O1: 手数料負担区分 | P1: 企業区分 | Q1: 生年月日 | R1: 法人番号 | S1: 市内住所コード | T1: 所在地区分 必須 | U1: 郵便番号 | V1: 都道府県 条件必須 | W1: 市区町村 条件必須 | X1: 丁目 条件必須 | Y1: 番地 条件必須 | Z1: 方書 条件必須 | AA1: 国名 | AB1: 電話番号 | AC1: FAX番号 | AD1: E-Mail | AE1: E-Mail2 | AF1: E-Mail3 | AG1: 相手方個別番号 | AH1: 支払通知有無 必須 | AI1: 支払通知方法 必須 | AJ1: 口座用途区分 条件必須 | AK1: 摘要 条件必須 | AL1: 金融機関コード 条件必須 | AM1: 店舗コード 条件必須 | AN1: 預金種別 条件必須 | AO1: 口座番号 条件必須 | AP1: 口座名義人 条件必須 | AQ1: 使用不可状態 条件必須
B2: 半角数字12文字 | C2: 半角英数字2文字 | D2: 半角数字8文字 | E2: 半角数字8文字 | F2: 半角英数字10文字 | G2: 半角英数字1文字 | H2: 半角英数字1文字 | I2: 半角数字12文字 | J2: 半角カナ30文字 | K2: 全角30文字 | L2: 全角30文字 | M2: 全角20文字 | N2: 全角20文字 | O2: 半角英数字1文字 | P2: 半角英数字1文字 | Q2: 半角数値8文字(YYYYMMDD) | R2: 半角数字13文字 | S2: 半角英数字10桁 | T2: 半角英数字1文字 | U2: 半角数字8文字 | V2: 全角文字4文字 | W2: 全角文字15文字 | X2: 全角文字20文字 | Y2: 全角文字15文字 | Z2: 全角文字25文字 | AA2: 全角文字20文字 | AB2: 半角英数字13文字 | AC2: 半角英数字13文字 | AD2: 半角英数字50文字 | AE2: 半角英数字50文字 | AF2: 半角英数字50文字 | AG2: 半角数字10桁 | AH2: 半角数字1桁 | AI2: 半角英数字1文字 | AJ2: 半角英数字1文字 | AK2: 全角文字15文字 | AL2: 半角数字4文字 | AM2: 半角数字3文字 | AN2: 半角英数字1文字 | AO2: 半角数字7文字 | AP2: 全銀協文字30文字 | AQ2: 半角英数字1文字
A3: 例 | B3: 123456789012 | C3: 10：大企業 | D3: 20190101 | E3: 20191231 | F3: 1234567890 | G3: 1：一般 | H3: 0：収入 | I3: 123456789012 | J3: ｱｲｳｴｵ | K3: テスト株式会社 | L3: 五反田支店 | M3: 山田 太郎 | N3: テスト | O3: 0：なし | P3: 1：中小企業 | Q3: 20000101 | R3: 1234567890123 | S3: 1234567890 | T3: 3：要 | U3: 123-4567 | V3: 東京都 | W3: 北区赤羽 | X3: １丁目 | Y3: １番地 | Z3: テスト | AA3: 日本 | AB3: 03-1234-5678 | AC3: 03-9876-5432
B4: {=IFERROR(_xlfn.IFS(振込口座申出書!$D$36<>"","0"&振込口座申出書!$D$36&"5",振込口座申出書!$T$35<>"","00"&振込口座申出書!$T$35),"")} | C4: =IF(振込口座申出書!$D$36<>"","00：職員（※修正のみ）","50：個人") -> 50：個人 | D4: 20040401 | F4: 505bmb0100 | G4: 2：職員（※修正のみ） | H4: 1：支出 | J4: =SUBSTITUTE(SUBSTITUTE(ASC(振込口座申出書!$S$31)," ","")," ","") | M4: =振込口座申出書!$S$32 -> 0 | N4: =$M$4 -> 0 | P4: 3：その他 | Q4: =IF(振込口座申出書!$D$35="","",ASC((TEXT(振込口座申出書!$D$35,"yyyymmdd")))) | T4: 3：要 | U4: =_xlfn.TEXTJOIN("-",TRUE,振込口座申出書!$F$33,振込口座申出書!$I$33) | V4: =IF(MID(振込口座申出書!$C$34,4,1)="県",LEFT(振込口座申出書!$C$34,4),LEFT(振込口座申出書!$C$34,3)) | W4: =_xlfn.LET(_xlpm.住所,IFERROR(_xlfn.TEXTAFTER(振込口座申出書!$C$34,"都"),IFERROR(_xlfn.TEXTAFTER(振込口座申出書!$C$34,"道"),IFERROR(_xlfn.TEXTAFTER(振込口座申出書!$C$34,"府"),_xlfn.TEXTAFTER(振込口座申出書!$C$34,"県")))),_xlpm.数字位置,MIN(IFERROR(FIND("0",_xlpm.住所),999),IFERROR(FIND("1",_xlpm.住所),999),IFERROR(FIND("2",_xlpm.住所),999),IFERROR(FIND("3",_xlpm.住所),999),IFERROR(FIND("4",_xlpm.住所),999),IFERROR(FIND("5",_xlpm.住所),999),IFERROR(FIND("6",_xlpm.住所),999),IFERROR(FIND("7",_xlpm.住所),999),IFERROR(FIND("8",_xlpm.住所),999),IFERROR(FIND("9",_xlpm.住所),999),IFERROR(FIND("０",_xlpm.住所),999),IFERROR(FIND("１",_xlpm.住所),999),IFERROR(FIND("２",_xlpm.住所),999),IFERROR(FIND("３",_xlpm.住所),999),IFERROR(FIND("４",_xlpm.住所),999),IFERROR(FIND("５",_xlpm.住所),999),IFERROR(FIND("６",_xlpm.住所),999),IFERROR(FIND("７",_xlpm.住所),999),IFERROR(FIND("８",_xlpm.住所),999),IFERROR(FIND("９",_xlpm.住所),999)),LEFT(_xlpm.住所,_xlpm.数字位置-1)) -> #N/A | X4: =DBCS(_xlfn.LET(_xlpm.住所,ASC(振込口座申出書!$C$34),_xlpm.数字位置,MIN(IFERROR(FIND("0",_xlpm.住所),999),IFERROR(FIND("1",_xlpm.住所),999),IFERROR(FIND("2",_xlpm.住所),999),IFERROR(FIND("3",_xlpm.住所),999),IFERROR(FIND("4",_xlpm.住所),999),IFERROR(FIND("5",_xlpm.住所),999),IFERROR(FIND("6",_xlpm.住所),999),IFERROR(FIND("7",_xlpm.住所),999),IFERROR(FIND("8",_xlpm.住所),999),IFERROR(FIND("9",_xlpm.住所),999),IFERROR(FIND("０",_xlpm.住所),999),IFERROR(FIND("１",_xlpm.住所),999),IFERROR(FIND("２",_xlpm.住所),999),IFERROR(FIND("３",_xlpm.住所),999),IFERROR(FIND("４",_xlpm.住所),999),IFERROR(FIND("５",_xlpm.住所),999),IFERROR(FIND("６",_xlpm.住所),999),IFERROR(FIND("７",_xlpm.住所),999),IFERROR(FIND("８",_xlpm.住所),999),IFERROR(FIND("９",_xlpm.住所),999)),MID(_xlpm.住所,_xlpm.数字位置,LEN(_xlpm.住所)))) | AH4: 1：有 | AI4: 2：メール送信 | AJ4: 1：通常 | AK4: 第１口座 | AL4: {=_xlfn.XLOOKUP(TRUE,CHOOSE({1,2,3,4},LEFT(振込口座申出書!$O$44,4),振込口座申出書!$H$57)<>"",CHOOSE({1,2,3,4},LEFT(振込口座申出書!$O$44,4),振込口座申出書!$H$57))} -> 9900 | AM4: =IF(振込口座申出書!$Z$44<>"",振込口座申出書!$Z$44,IF(AND(振込口座申出書!$V$57<>"",振込口座申出書!$V$57<>"8"),振込口座申出書!$V$57,"")) | AN4: 1：普通 | AO4: =IF(振込口座申出書!$O$46<>"",振込口座申出書!$O$46,IF(振込口座申出書!$H$58<>"",振込口座申出書!$H$58,"")) | AP4: =ASC(IF(振込口座申出書!$O$47<>"",振込口座申出書!$O$47,IF(振込口座申出書!$H$59<>"",振込口座申出書!$H$59,"")))
